BEGIN:VCALENDAR
VERSION:2.0
PRODID:-//hacksw/handcal//NONSGML v1.0//EN
CALSCALE:GREGORIAN
BEGIN:VEVENT
ORGANIZER;CN=Xylem:MAILTO:no-reply@mail.gcs-web.com
DTEND:
UID:46ed1b8e-16a0-46d8-b4cb-d90bc694c388
DTSTAMP:1777049118
LOCATION:https://xyleminc.gcs-web.com/events/event-details/stifel-2026-boston-cross-sector-1x1-conference
DESCRIPTION:Event Details https://xyleminc.gcs-web.com/events/event-details/stifel-2026-boston-cross-sector-1x1-conference
URL;VALUE=URI:https://xyleminc.gcs-web.com/events/event-details/stifel-2026-boston-cross-sector-1x1-conference
SUMMARY:Xylem - Stifel 2026 Boston Cross Sector 1x1 Conference
DTSTART:20260603T040000Z
END:VEVENT
END:VCALENDAR